BEGIN:VCALENDAR
VERSION:2.0
PRODID:-//Tukios.com/
BEGIN:VEVENT
UID:e31e1dde-b623-412d-8883-1f48bcfc346c@www.naturalfuneralcompany.com
DTSTAMP:20260425T203447Z
DTSTART:20260509T173000Z
DTEND:20260509T183000Z
SUMMARY:Celebration of Life
DESCRIPTION:
URL:https://www.naturalfuneralcompany.com/obituaries/richard-grance
LOCATION:Nativity Lutheran Church 4517 Mt. Royal Boulevard  Allison Park 
	PA 15101
GEO:40.5856239;-79.9514539
END:VEVENT
END:VCALENDAR