BEGIN:VCALENDAR
VERSION:2.0
PRODID:-//Tukios.com/
BEGIN:VEVENT
UID:4d2f2139-ae93-4b33-a051-264c6e5cc077@www.naturalfuneralcompany.com
DTSTAMP:20260425T203206Z
DTSTART:20260509T190000Z
DTEND:20260509T203000Z
SUMMARY:Visitation with Family
DESCRIPTION:
URL:https://www.naturalfuneralcompany.com/obituaries/richard-grance
LOCATION: 4517 Mt. Royal Boulevard  Allison Park PA 15101
GEO:40.5856239;-79.9514539
END:VEVENT
END:VCALENDAR